BEGIN:VCALENDAR
VERSION:2.0
PRODID:icalendar-ruby
CALSCALE:GREGORIAN
NAME:SPD Events
X-WR-CALNAME:SPD Events
URL:https://morobemission.adventist.org.pg/calendars/2604/feed
REFRESH-INTERVAL;VALUE=DURATION:P1D
X-PUBLISHED-TTL:P1D
BEGIN:VTIMEZONE
TZID:Pacific/Port_Moresby
BEGIN:DAYLIGHT
DTSTART:20380119T131407
TZOFFSETFROM:+1000
TZOFFSETTO:+1000
RRULE:FREQ=YEARLY;BYDAY=3TU;BYMONTH=1
TZNAME:+10
END:DAYLIGHT
BEGIN:STANDARD
DTSTART:18950101T001128
TZOFFSETFROM:+0948
TZOFFSETTO:+1000
RRULE:FREQ=YEARLY;BYDAY=1TU;BYMONTH=1
TZNAME:+10
END:STANDARD
END:VTIMEZONE
BEGIN:VEVENT
DTSTAMP:20260421T100357Z
UID:ff8d4294-c961-499c-9b41-bfeab35e482b
DTSTART;TZID=Pacific/Port_Moresby:20260428T080000
DTEND;TZID=Pacific/Port_Moresby:20260502T180000
DESCRIPTION:50+ Delegates from Morobe Mission will be attending the Launchi
 ng.\n\nThe Program will be live stream also.
LOCATION:
SUMMARY:SPD For Christ Launching
END:VEVENT
END:VCALENDAR
