BEGIN:VCALENDAR
VERSION:2.0
PRODID:icalendar-ruby
CALSCALE:GREGORIAN
NAME:Alive In Jesus Training
X-WR-CALNAME:Alive In Jesus Training
URL:https://morobemission.adventist.org.pg/calendars/2601/feed
REFRESH-INTERVAL;VALUE=DURATION:P1D
X-PUBLISHED-TTL:P1D
BEGIN:VTIMEZONE
TZID:Pacific/Port_Moresby
BEGIN:DAYLIGHT
DTSTART:20380119T131407
TZOFFSETFROM:+1000
TZOFFSETTO:+1000
RRULE:FREQ=YEARLY;BYDAY=3TU;BYMONTH=1
TZNAME:+10
END:DAYLIGHT
BEGIN:STANDARD
DTSTART:18950101T001128
TZOFFSETFROM:+0948
TZOFFSETTO:+1000
RRULE:FREQ=YEARLY;BYDAY=1TU;BYMONTH=1
TZNAME:+10
END:STANDARD
END:VTIMEZONE
BEGIN:VEVENT
DTSTAMP:20260421T095358Z
UID:53cd2437-cef6-40af-a72e-edb9de0aa1c1
DTSTART;TZID=Pacific/Port_Moresby:20260608T080000
DTEND;TZID=Pacific/Port_Moresby:20260611T140000
DESCRIPTION:Alive in Jesus Training is for Leaders\, Teachers and Coordinat
 ors. 
LOCATION:Morobe Mission\, 2mile\, Lae\, Morobe Province
SUMMARY:Alive In Jesus Training
END:VEVENT
END:VCALENDAR
