BEGIN:VCALENDAR
VERSION:2.0
PRODID:icalendar-ruby
CALSCALE:GREGORIAN
NAME:Stewardship
X-WR-CALNAME:Stewardship
URL:https://morobemission.adventist.org.pg/calendars/2599/feed
REFRESH-INTERVAL;VALUE=DURATION:P1D
X-PUBLISHED-TTL:P1D
BEGIN:VTIMEZONE
TZID:Pacific/Port_Moresby
BEGIN:DAYLIGHT
DTSTART:20380119T131407
TZOFFSETFROM:+1000
TZOFFSETTO:+1000
RRULE:FREQ=YEARLY;BYDAY=3TU;BYMONTH=1
TZNAME:+10
END:DAYLIGHT
BEGIN:STANDARD
DTSTART:18950101T001128
TZOFFSETFROM:+0948
TZOFFSETTO:+1000
RRULE:FREQ=YEARLY;BYDAY=1TU;BYMONTH=1
TZNAME:+10
END:STANDARD
END:VTIMEZONE
BEGIN:VEVENT
DTSTAMP:20260422T164618Z
UID:4340ac5e-c85a-465b-80df-f15d3f1c0524
DTSTART;TZID=Pacific/Port_Moresby:20260510T060000
DTEND;TZID=Pacific/Port_Moresby:20260516T180000
LOCATION:Local Churches
SUMMARY:Stewardship Revival Week - Quarter 2
END:VEVENT
END:VCALENDAR
